Workbook
Name Capital_Costs_Details: #REF!

Sheet 1.Guide
B2: Mini grid Tariff Calculation Tool (TCT)
B3: Date | C3: 45595
B4: Version | C4: 1
B5: Author | C5: VIS Economic and Energy Consultants S.A.
B7: The TCT consist of 23 Sheets
B9: 1 | C9: Guide
B10: 2 | C10: Energy Power and customers data
B11: 3-8 | C11: Input and Tariff Calculation for generation activity
B12: 9 | C12: WACC for Distribution Activity (for both MV and LV)
B13: 10-13 | C13: Input and Tariff Calculation for distribution MV activity
B14: 14-17 | C14: Input and Tariff Calculation for distribution LV activity
B15: 18-22 | C15: Input and Tariff Calculation for commercialization activity
B17: The following color codes apply
C18: data can be input by the user
C19: input is not required and do not contain formulas
C20: cells with dates which can not be edited (protected)
C21: cells with formulas which can not be edited (protected)
B23: Note: The TCT is already filled with dummy data for the purpose of testing the model.
B25: Overview of the Tariff Calculation Tool
B26: The following table offers an overview of the various sheets and sections of the TCT, as well as explanations on how to populate the sections. The links allow to directly transfer to the respective section.
B28: Section | H28: Explanation on how and what to populate in the Section
B29: 1.Guide'!A1 | H29: Current Sheet
B30: 2.Energy, Power and Consumers | H30: The user should insert Generation & Supply, Energy Demand, Peak Demand and Consumers data. The should specify system peak demand, and the contribution of each customer class to the peak, by season: Dry and Rainy. Additionally, the user should specify the contribution of each customer class to the total customer related costs. The model uses the peak demand data provided by the user to estimate allocation factors to assign fixed costs to the dry and rainy season.
B31: 3.Generation WACC'!A1 | H31: The user should insert parameters for calculating the WACC for the generation activity: Gearing ratio, return on debt, risk free rate, country risk premium, market risk premium and the income tax rate. The Gearing ratio can be the actual proposed by the Mini-grid applicant or a "target" Gearing Ratio set by the regulator. The return on debt is the interest charged by the lender on the loan and is provided by the applicant. The remaining parameters are inserted by the regulator.
B32: 4.CAPEX List'!A1 | H32: The CAPEX list is a worksheet that provides input to the worksheet: 5. Generation RAB
B33: 5.Generation RAB'!A1 | H33: The user should select the appropriate generation technologies used for the mini grid from the top down list. Two technologies are allowed. If "technology 2" does not exist (i.e. the user only utilizes one generation technology) the user should select "No other Technology". Afterwards, the user is required to input, by technology and asset type, the 1) the value of new investments, 2) the respective depreciation rate per asset 3) Value of disposal in the year the asset is disposed and 4) the annual working capital as provided by the applicant. Concerning the Value of Disposal of assets the user should input the net remaining value of the asset (after depreciation) at the time of disposal, and not the commercial value of the disposed asset. Concerning the value of new investments, the user should include the value of assets dedicated to the generation activity, as well as the part of the value of shared assets (i.e. assets shared between generation, distribution and commercialization), that concern the generation activity. The TCT then calculates the annual Depreciation Rate and Regulatory Asset Base. In case assets are not fully depreciated at the end of the concession period, there is a residual value. In case the concession is not extended and the concessionaire is asked to surrender the mini grid to the State, the concessionaire should be reimbursed for that residual value. In opposite case, either the depreciation rates on assets have to be accelerated so that the residual value becomes zero at the end the concession (which increases tariffs), or the concession period is extended.
B34: 6.Generation OPEX'!A1 | H34: The user should insert the respective OPEX values, non-income bank charges and non-income tax rates values dedicated to the generation activity, and the value of services (services shared between generation, distribution and commercialization) that concern the generation activity.
B35: 7.Generation ARR'!A1 | H35: This section does not require data to be input by the user. This section calculates the annual required revenue for generation, based on the calculated RAB and the data provided by the applicant in the OPEX worksheet, including the distinction between variable and fixed OPEX. Fixed costs are additionally allocated to dry season and rainy season. The allocators for this are based on formulas in the "Energy, Power and Consumers" worksheet, using peak demand data provided by the user. The allocation to dry and rainy season is done so as to be able to determine the capacity charges for the formulation of seasonal users tariffs.
B36: 8.Generators Charge'!A1 | H36: In this worksheet data are not required by the user as this section presents the calculates the Energy and Capacity tariffs for the generation activity for all four customer classes. For calculating the energy tariff, the variable costs are taken into account. The share of variable cost allocated to each customer class is based on the contribution of each customer class to the total energy demand. For calculating the capacity tariff the fixed costs are taken into account. The share of fixed costs allocated to each customer class is based on the contribution of each customer class to the system peak demand. Finally, the worksheet contains a "check section" with the objective to verify that the established tariffs cover 100% of the required revenue dedicated to the generation activity.
B37: 9.Distribution WACC '!A1 | H37: The user should insert parameters for calculating the WACC for the distribution activity: Gearing ratio, return on debt, risk free rate, country risk premium, market risk premium and the income tax rate. The Gearing ratio can be the actual proposed by the Mini-grid applicant or a "target" Gearing Ratio set by the regulator. The return on debt is the interest charged by the lender on the loan and is provided by the applicant. The remaining parameters are inserted by the regulator.
B38: 10.Distribution MV RAB'!A1 | H38: The user is required to input, by asset type, the 1) the value of new investments, 2) the respective depreciation rate per asset 3) Value of disposal in the year the asset is disposed and 4) the annual working capital as provided by the applicant. Concerning the Value of Disposal of assets the user should input the net remaining value of the asset (after depreciation) at the time of disposal, and not the commercial value of the disposed asset. Concerning the value of new investments, the user should include the value of assets dedicated to the distribution Medium Voltage activity, as well as the part of the value of shared assets (i.e. assets shared between generation, distribution and commercialization), that concern the distribution Medium Voltage activity. The TCT then calculates the annual Depreciation Rate and Regulatory Asset Base. In case assets are not fully depreciated at the end of the concession period, there is a residual value. In case the concession is not extended and the concessionaire is asked to surrender the mini grid to the State, the concessionaire should be reimbursed for that residual value. In opposite case, either the depreciation rates on assets have to be accelerated so that the residual value becomes zero at the end the concession (which increases tariffs), or the concession period is extended.
B39: 11.Distribution MV OPEX'!A1 | H39: The user should insert the respective OPEX values, non-income bank charges and non-income tax rates values dedicated to the distribution Medium Voltage activity, and the value of services (services shared between generation, distribution and commercialization) that concern the distribution Medium Voltage activity
... B51: 23. Τotal Charge'!A1 | H51: In this worksheet the model provides an overview of all Energy, Capacity and customer related tariff per activity and per customer class. Additionally, it calculates the total Energy, Capacity and customer related tariff and the average tariff per customer class. The Average tariff is calculating by estimating the share dedicated to each customer class of the total required revenue, based on the contribution on the energy demand.

Sheet 2.Energy, Power and Consumers
B2: Energy data for the regulated electricity generation activity
B4: Total Electricity generation | D4: 2024 | E4: =D4+1 -> 2025 | F4: =E4+1 -> 2026 | G4: =F4+1 -> 2027 | H4: =G4+1 -> 2028 | I4: =H4+1 -> 2029 | J4: =I4+1 -> 2030 | K4: =J4+1 -> 2031 | L4: =K4+1 -> 2032 | ... AH4: =AG4+1 -> 2054
B5: Electricity Generation (dry season) | C5: MWh | D5: =SUM(D6:D9) -> 0 | E5: =SUM(E6:E9) -> 0 | F5: =SUM(F6:F9) -> 0 | G5: =SUM(G6:G9) -> 0 | H5: =SUM(H6:H9) -> 0 | I5: =SUM(I6:I9) -> 0 | J5: =SUM(J6:J9) -> 0 | K5: =SUM(K6:K9) -> 0 | ... AH5: =SUM(AH6:AH9) -> 0
B6: Electricity generated by run-of-the-river hydro power plants (dry season) | C6: MWh
B7: Electricity generated by wind power plants (dry season) | C7: MWh
B8: Electricity generated by solar power plants (dry season) | C8: MWh
B9: Electricity generated by diesel power plants (dry season) | C9: MWh
B10: Electricity Generation (rainy season) | C10: MWh | D10: =SUM(D11:D14) -> 0 | E10: =SUM(E11:E14) -> 0 | F10: =SUM(F11:F14) -> 0 | G10: =SUM(G11:G14) -> 0 | H10: =SUM(H11:H14) -> 0 | I10: =SUM(I11:I14) -> 0 | J10: =SUM(J11:J14) -> 0 | K10: =SUM(K11:K14) -> 0 | ... AH10: =SUM(AH11:AH14) -> 0
B11: Electricity generated by run-of-the-river hydro power plants (rainy season) | C11: MWh
B12: Electricity generated by wind power plants (rainy season) | C12: MWh
B13: Electricity generated by solar power plants (rainy season) | C13: MWh
B14: Electricity generated by diesel power plants (rainy season) | C14: MWh
B16: Electricity supplied by Independent Power Producer (IPP)
B17: Electricity supplied by Independent Power Producer (IPP) (dry season) | C17: MWh
B18: Electricity supplied by Independent Power Producer (IPP) (rainy season) | C18: MWh
B20: Total Electricity supplied
B21: Total Electricity Supplied (dry season) | C21: MWh | D21: =D5+D17 -> 0 | E21: =E5+E17 -> 0 | F21: =F5+F17 -> 0 | G21: =G5+G17 -> 0 | H21: =H5+H17 -> 0 | I21: =I5+I17 -> 0 | J21: =J5+J17 -> 0 | K21: =K5+K17 -> 0 | ... AH21: =AH5+AH17 -> 0
B22: Total Electricity Supplied (rainy season) | C22: MWh | D22: =D10+D18 -> 0 | E22: =E10+E18 -> 0 | F22: =F10+F18 -> 0 | G22: =G10+G18 -> 0 | H22: =H10+H18 -> 0 | I22: =I10+I18 -> 0 | J22: =J10+J18 -> 0 | K22: =K10+K18 -> 0 | ... AH22: =AH10+AH18 -> 0
B24: Total Electricity Demand | D24: 2024 | E24: =D24+1 -> 2025 | F24: =E24+1 -> 2026 | G24: =F24+1 -> 2027 | H24: =G24+1 -> 2028 | I24: =H24+1 -> 2029 | J24: =I24+1 -> 2030 | K24: =J24+1 -> 2031 | L24: =K24+1 -> 2032 | ... AH24: =AG24+1 -> 2054
B25: Total Electricity Demand at distribution | C25: MWh | D25: =SUM(D26:D29) -> 1430 | E25: =SUM(E26:E29) -> 1430 | F25: =SUM(F26:F29) -> 1430 | G25: =SUM(G26:G29) -> 1430 | H25: =SUM(H26:H29) -> 1430 | I25: =SUM(I26:I29) -> 1430 | J25: =SUM(J26:J29) -> 1430 | K25: =SUM(K26:K29) -> 1430 | ... AH25: =SUM(AH26:AH29) -> 1430
B26: Electricity demand by Industrial customers at Medium Voltage | C26: MWh | D26: 700 | E26: 700 | F26: 700 | G26: 700 | H26: 700 | I26: 700 | J26: 700 | K26: 700 | L26: 700 | M26: 700 | N26: 700 | O26: 700 | P26: 700 | Q26: 700 | R26: 700 | S26: 700 | T26: 700 | U26: 700 | V26: 700 | W26: 700 | X26: 700 | Y26: 700 | Z26: 700 | AA26: 700 | AB26: 700 | AC26: 700 | AD26: 700 | AE26: 700 | AF26: 700 | AG26: 700 | AH26: 700
B27: Electricity demand by semi-industrial/commercial customers at Medium Voltage | C27: MWh | D27: 30 | E27: 30 | F27: 30 | G27: 30 | H27: 30 | I27: 30 | J27: 30 | K27: 30 | L27: 30 | M27: 30 | N27: 30 | O27: 30 | P27: 30 | Q27: 30 | R27: 30 | S27: 30 | T27: 30 | U27: 30 | V27: 30 | W27: 30 | X27: 30 | Y27: 30 | Z27: 30 | AA27: 30 | AB27: 30 | AC27: 30 | AD27: 30 | AE27: 30 | AF27: 30 | AG27: 30 | AH27: 30
B28: Electricity demand by semi-industrial/commercial customers at Low Voltage | C28: MWh | D28: 280 | E28: 280 | F28: 280 | G28: 280 | H28: 280 | I28: 280 | J28: 280 | K28: 280 | L28: 280 | M28: 280 | N28: 280 | O28: 280 | P28: 280 | Q28: 280 | R28: 280 | S28: 280 | T28: 280 | U28: 280 | V28: 280 | W28: 280 | X28: 280 | Y28: 280 | Z28: 280 | AA28: 280 | AB28: 280 | AC28: 280 | AD28: 280 | AE28: 280 | AF28: 280 | AG28: 280 | AH28: 280
B29: Electricity demand by residential customers at Low Voltage | C29: MWh | D29: 420 | E29: 420 | F29: 420 | G29: 420 | H29: 420 | I29: 420 | J29: 420 | K29: 420 | L29: 420 | M29: 420 | N29: 420 | O29: 420 | P29: 420 | Q29: 420 | R29: 420 | S29: 420 | T29: 420 | U29: 420 | V29: 420 | W29: 420 | X29: 420 | Y29: 420 | Z29: 420 | AA29: 420 | AB29: 420 | AC29: 420 | AD29: 420 | AE29: 420 | AF29: 420 | AG29: 420 | AH29: 420
B31: Distribution System Peak Demand | D31: 2024 | E31: =D31+1 -> 2025 | F31: =E31+1 -> 2026 | G31: =F31+1 -> 2027 | H31: =G31+1 -> 2028 | I31: =H31+1 -> 2029 | J31: =I31+1 -> 2030 | K31: =J31+1 -> 2031 | L31: =K31+1 -> 2032 | ... AH31: =AG31+1 -> 2054
B32: Distribution System Peak Demand | C32: MW | D32: =SUM(D33:D36) -> 0.51 | E32: =SUM(E33:E36) -> 0.51 | F32: =SUM(F33:F36) -> 0.51 | G32: =SUM(G33:G36) -> 0.51 | H32: =SUM(H33:H36) -> 0.51 | I32: =SUM(I33:I36) -> 0.51 | J32: =SUM(J33:J36) -> 0.51 | K32: =SUM(K33:K36) -> 0.51 | ... AH32: =SUM(AH33:AH36) -> 0.51
B33: Contribution to Peak demand by industrial customers at Medium Voltage | C33: MW | D33: 0.25 | E33: 0.25 | F33: 0.25 | G33: 0.25 | H33: 0.25 | I33: 0.25 | J33: 0.25 | K33: 0.25 | L33: 0.25 | M33: 0.25 | N33: 0.25 | O33: 0.25 | P33: 0.25 | Q33: 0.25 | R33: 0.25 | S33: 0.25 | T33: 0.25 | U33: 0.25 | V33: 0.25 | W33: 0.25 | X33: 0.25 | Y33: 0.25 | Z33: 0.25 | AA33: 0.25 | AB33: 0.25 | AC33: 0.25 | AD33: 0.25 | AE33: 0.25 | AF33: 0.25 | AG33: 0.25 | AH33: 0.25
B34: Contribution to Peak demand by semi industrial/commercial customers at Medium Voltage | C34: MW | D34: 0.01 | E34: 0.01 | F34: 0.01 | G34: 0.01 | H34: 0.01 | I34: 0.01 | J34: 0.01 | K34: 0.01 | L34: 0.01 | M34: 0.01 | N34: 0.01 | O34: 0.01 | P34: 0.01 | Q34: 0.01 | R34: 0.01 | S34: 0.01 | T34: 0.01 | U34: 0.01 | V34: 0.01 | W34: 0.01 | X34: 0.01 | Y34: 0.01 | Z34: 0.01 | AA34: 0.01 | AB34: 0.01 | AC34: 0.01 | AD34: 0.01 | AE34: 0.01 | AF34: 0.01 | AG34: 0.01 | AH34: 0.01
B35: Contribution to Peak demand by semi industrial/commercial customers at Low Voltage | C35: MW | D35: 0.1 | E35: 0.1 | F35: 0.1 | G35: 0.1 | H35: 0.1 | I35: 0.1 | J35: 0.1 | K35: 0.1 | L35: 0.1 | M35: 0.1 | N35: 0.1 | O35: 0.1 | P35: 0.1 | Q35: 0.1 | R35: 0.1 | S35: 0.1 | T35: 0.1 | U35: 0.1 | V35: 0.1 | W35: 0.1 | X35: 0.1 | Y35: 0.1 | Z35: 0.1 | AA35: 0.1 | AB35: 0.1 | AC35: 0.1 | AD35: 0.1 | AE35: 0.1 | AF35: 0.1 | AG35: 0.1 | AH35: 0.1
B36: Contribution to Peak demand by residential customers | C36: MW | D36: 0.15 | E36: 0.15 | F36: 0.15 | G36: 0.15 | H36: 0.15 | I36: 0.15 | J36: 0.15 | K36: 0.15 | L36: 0.15 | M36: 0.15 | N36: 0.15 | O36: 0.15 | P36: 0.15 | Q36: 0.15 | R36: 0.15 | S36: 0.15 | T36: 0.15 | U36: 0.15 | V36: 0.15 | W36: 0.15 | X36: 0.15 | Y36: 0.15 | Z36: 0.15 | AA36: 0.15 | AB36: 0.15 | AC36: 0.15 | AD36: 0.15 | AE36: 0.15 | AF36: 0.15 | AG36: 0.15 | AH36: 0.15
B37: Distribution System Peak Demand (dry season) | C37: MW | D37: =SUM(D38:D41) -> 0.51 | E37: =SUM(E38:E41) -> 0.51 | F37: =SUM(F38:F41) -> 0.51 | G37: =SUM(G38:G41) -> 0.51 | H37: =SUM(H38:H41) -> 0.51 | I37: =SUM(I38:I41) -> 0.51 | J37: =SUM(J38:J41) -> 0.51 | K37: =SUM(K38:K41) -> 0.51 | ... AH37: =SUM(AH38:AH41) -> 0.51
B38: Contribution to Peak demand by industrial customers at Medium Voltage (dry season) | C38: MW | D38: 0.25 | E38: 0.25 | F38: 0.25 | G38: 0.25 | H38: 0.25 | I38: 0.25 | J38: 0.25 | K38: 0.25 | L38: 0.25 | M38: 0.25 | N38: 0.25 | O38: 0.25 | P38: 0.25 | Q38: 0.25 | R38: 0.25 | S38: 0.25 | T38: 0.25 | U38: 0.25 | V38: 0.25 | W38: 0.25 | X38: 0.25 | Y38: 0.25 | Z38: 0.25 | AA38: 0.25 | AB38: 0.25 | AC38: 0.25 | AD38: 0.25 | AE38: 0.25 | AF38: 0.25 | AG38: 0.25 | AH38: 0.25
B39: Contribution to Peak demand by semi industrial/commercial customers at Medium Voltage (dry season) | C39: MW | D39: 0.01 | E39: 0.01 | F39: 0.01 | G39: 0.01 | H39: 0.01 | I39: 0.01 | J39: 0.01 | K39: 0.01 | L39: 0.01 | M39: 0.01 | N39: 0.01 | O39: 0.01 | P39: 0.01 | Q39: 0.01 | R39: 0.01 | S39: 0.01 | T39: 0.01 | U39: 0.01 | V39: 0.01 | W39: 0.01 | X39: 0.01 | Y39: 0.01 | Z39: 0.01 | AA39: 0.01 | AB39: 0.01 | AC39: 0.01 | AD39: 0.01 | AE39: 0.01 | AF39: 0.01 | AG39: 0.01 | AH39: 0.01
B40: Contribution to Peak demand by semi industrial/commercial customers at Low Voltage (dry season) | C40: MW | D40: 0.1 | E40: 0.1 | F40: 0.1 | G40: 0.1 | H40: 0.1 | I40: 0.1 | J40: 0.1 | K40: 0.1 | L40: 0.1 | M40: 0.1 | N40: 0.1 | O40: 0.1 | P40: 0.1 | Q40: 0.1 | R40: 0.1 | S40: 0.1 | T40: 0.1 | U40: 0.1 | V40: 0.1 | W40: 0.1 | X40: 0.1 | Y40: 0.1 | Z40: 0.1 | AA40: 0.1 | AB40: 0.1 | AC40: 0.1 | AD40: 0.1 | AE40: 0.1 | AF40: 0.1 | AG40: 0.1 | AH40: 0.1
B41: Contribution to Peak demand by residential customers at Low Voltage (dry season) | C41: MW | D41: 0.15 | E41: 0.15 | F41: 0.15 | G41: 0.15 | H41: 0.15 | I41: 0.15 | J41: 0.15 | K41: 0.15 | L41: 0.15 | M41: 0.15 | N41: 0.15 | O41: 0.15 | P41: 0.15 | Q41: 0.15 | R41: 0.15 | S41: 0.15 | T41: 0.15 | U41: 0.15 | V41: 0.15 | W41: 0.15 | X41: 0.15 | Y41: 0.15 | Z41: 0.15 | AA41: 0.15 | AB41: 0.15 | AC41: 0.15 | AD41: 0.15 | AE41: 0.15 | AF41: 0.15 | AG41: 0.15 | AH41: 0.15
B42: Distribution System Peak Demand (rainy season) | C42: MW | D42: =SUM(D43:D46) -> 0.33 | E42: =SUM(E43:E46) -> 0.33 | F42: =SUM(F43:F46) -> 0.33 | G42: =SUM(G43:G46) -> 0.33 | H42: =SUM(H43:H46) -> 0.33 | I42: =SUM(I43:I46) -> 0.33 | J42: =SUM(J43:J46) -> 0.33 | K42: =SUM(K43:K46) -> 0.33 | ... AH42: =SUM(AH43:AH46) -> 0.33
B43: Contribution to Peak demand by industrial customers at Medium Voltage (rainy season) | C43: MW | D43: 0.12 | E43: 0.12 | F43: 0.12 | G43: 0.12 | H43: 0.12 | I43: 0.12 | J43: 0.12 | K43: 0.12 | L43: 0.12 | M43: 0.12 | N43: 0.12 | O43: 0.12 | P43: 0.12 | Q43: 0.12 | R43: 0.12 | S43: 0.12 | T43: 0.12 | U43: 0.12 | V43: 0.12 | W43: 0.12 | X43: 0.12 | Y43: 0.12 | Z43: 0.12 | AA43: 0.12 | AB43: 0.12 | AC43: 0.12 | AD43: 0.12 | AE43: 0.12 | AF43: 0.12 | AG43: 0.12 | AH43: 0.12
B44: Contribution to Peak demand by semi industrial/commercial customers at Medium Voltage (rainy season) | C44: MW | D44: 0.01 | E44: 0.01 | F44: 0.01 | G44: 0.01 | H44: 0.01 | I44: 0.01 | J44: 0.01 | K44: 0.01 | L44: 0.01 | M44: 0.01 | N44: 0.01 | O44: 0.01 | P44: 0.01 | Q44: 0.01 | R44: 0.01 | S44: 0.01 | T44: 0.01 | U44: 0.01 | V44: 0.01 | W44: 0.01 | X44: 0.01 | Y44: 0.01 | Z44: 0.01 | AA44: 0.01 | AB44: 0.01 | AC44: 0.01 | AD44: 0.01 | AE44: 0.01 | AF44: 0.01 | AG44: 0.01 | AH44: 0.01
B45: Contribution to Peak demand by semi industrial/commercial customers at Low Voltage (rainy season) | C45: MW | D45: 0.08 | E45: 0.08 | F45: 0.08 | G45: 0.08 | H45: 0.08 | I45: 0.08 | J45: 0.08 | K45: 0.08 | L45: 0.08 | M45: 0.08 | N45: 0.08 | O45: 0.08 | P45: 0.08 | Q45: 0.08 | R45: 0.08 | S45: 0.08 | T45: 0.08 | U45: 0.08 | V45: 0.08 | W45: 0.08 | X45: 0.08 | Y45: 0.08 | Z45: 0.08 | AA45: 0.08 | AB45: 0.08 | AC45: 0.08 | AD45: 0.08 | AE45: 0.08 | AF45: 0.08 | AG45: 0.08 | AH45: 0.08
B46: Contribution to Peak demand by residential customers at Low Voltage (rainy season) | C46: MW | D46: 0.12 | E46: 0.12 | F46: 0.12 | G46: 0.12 | H46: 0.12 | I46: 0.12 | J46: 0.12 | K46: 0.12 | L46: 0.12 | M46: 0.12 | N46: 0.12 | O46: 0.12 | P46: 0.12 | Q46: 0.12 | R46: 0.12 | S46: 0.12 | T46: 0.12 | U46: 0.12 | V46: 0.12 | W46: 0.12 | X46: 0.12 | Y46: 0.12 | Z46: 0.12 | AA46: 0.12 | AB46: 0.12 | AC46: 0.12 | AD46: 0.12 | AE46: 0.12 | AF46: 0.12 | AG46: 0.12 | AH46: 0.12
...

Sheet 3.Generation WACC
B2: WACC Calculation for generation activity
B4: Gearing ratio (i.e. Debt/(Debt+Equity) ratio) | C4: % | D4: =70% -> 0.7 | E4: Gearing ratio is the share of debt to the total debt and equity. This can be the actual proposed by the Mini-grid applicant or a "target" gearing ratio set by the regulator.
B5: Return on debt | C5: % | D5: 0.1 | E5: Return on debt (loan) is the interest rate charged by the lender on the loan to the mini grid operator.
B6: Risk free rate | C6: % | D6: 0.043 | E6: Risk Free Rate is the yield that an investor receives on a risk free investment. This is typically, the yield received by placing funds in long-term State bonds in a highly rated country, for example the yield on 10-year US Treasury bonds. The yield represents the return an investor would currently earn if they bought the bond today at its market price, factoring in prevailing interest rates and economic expectations. For example, a bond with a 5% interest rate on a $1,000 face value pays $50 annually, but if the bond’s market price drops to $900, the current yield becomes approximately 5.56% ($50 / $900). Since bond prices fluctuate, the yield reflects the return investors actually demand for risk-free U.S. Treasury bonds at the moment. Source of information on yields on state bonds:https://www.bloomberg.com/markets/rates-bonds/government-bonds/us
B7: Country risk premium | C7: % | D7: 0.1 | E7: Country Risk Premium is a factor that may be included in the calculation of the return on equity. The CRP accounts for the extra risk associated with investing in a country that may have political, economic, or currency stability issues. Country Risk premium, although being part of the methodology is not always included according to some regulatory regimes. One way of calculating the CRP is to take the difference in yield between the country’s state bonds (e.g., a 10-year bond) and the yield of the 10-year U.S. Treasury bond. In the absence of a DRC bond, high-yield African sovereign bonds from similarly rated countries (e.g., Angola, Zambia, or Mozambique) can serve as proxies for the DRC, as long as they share a comparable sovereign credit rating (such as CCC+ from agencies like S&P and Fitch). For example, if the 10-year U.S. Treasury bond is yielding 4%, and 10-year bonds of countries similar to DRC yield 14%, the CRP would be around 10%. Source for credit Rating and Default Risk Adjustments: sites of rating agencies. Source for CRP: https://pages.stern.nyu.edu/~adamodar/
B8: Market risk premium | C8: % | D8: 0.1206 | E8: The Market Risk Premium (MRP) represents the difference between the expected return on equities (such as shares in the stock market) and the risk-free rate of return (typically represented by the yield on long-term government bonds, like state bonds). This premium reflects the additional return investors require to compensate for the higher risk of equities compared to risk-free bonds. If data is unavailable for a particular country, the MRP can be estimated by taking the average differences in returns between equities and government bonds in a sample of comparable countries. Adjustments may also be made based on factors like country risk, economic conditions, and market volatility to tailor the MRP estimate more accurately to the specific country. Professor Aswath Damodaran (New York University) provides MRP estimates:https://pages.stern.nyu.edu/~adamodar/
B9: beta (β) | C9: factor | D9: 0.47 | E9: Beta (β) reflects a company's (or sector's) systematic risk relative to the overall market. It measures how the company's (or sector's) returns respond to changes in the broader market returns. Beta is estimated by examining the historical returns of the company or sector compared to market returns, typically through regression analysis on multiyear data. Calculating beta can be complex, often requiring adjustments for company-specific factors like leverage (debt levels) and tax rates to isolate the company's inherent risk. Company betas are often available through research providers (e.g., Bloomberg, Reuters) on a subscription basis. Additionally, Professor Aswath Damodaran (New York University) provides free beta estimates for various sectors (such as utilities and power), available on his website: https://pages.stern.nyu.edu/~adamodar/New_Home_Page/datafile/Betas.html
B10: Return on equity | C10: % | D10: =D6+D7+D9*(D8-D6) -> 0.179472
B11: Revenue Tax rate | C11: % | D11: 0.28
B13: WACCpost-tax, nominal | C13: % | D13: =(1-D4)*D10/(1-D11)+D4*D5 -> 0.14478
B15: For more information please review the following NARUC publication:USAID, 2020,A Cost of Capital and Capital Markets Primer for Utility Regulators for Philippines

Sheet 4.CAPEX List
B2: Photovoltaic System | C2: Micro-hydropower plant | D2: Wind Power plant | E2: Diesel power plant | F2: Other CAPEX
B3: Basic preliminary engineering design | C3: Basic preliminary engineering design | D3: Basic preliminary engineering design | E3: Basic preliminary engineering design | F3: Buildings
B4: Detailed preliminary engineering design | C4: Detailed preliminary engineering design | D4: Detailed preliminary engineering design | E4: Detailed preliminary engineering design | F4: IT
B5: Engineering cost | C5: Engineering cost | D5: Engineering cost | E5: Engineering cost | F5: Vehicles and other transportation equipment
B6: Fees for permits | C6: Fees for permits | D6: Fees for permits | E6: Fees for permits | F6: Furniture, fittings
B7: Environmental and Social Impact Assessments | C7: Environmental and Social Impact Assessments | D7: Environmental and Social Impact Assessments | E7: Environmental and Social Impact Assessments | F7: Computer equipment
B8: Photovoltaic panels | C8: Reservoirs | D8: Foundation (structural block in the ground) | E8: Diesel engine | F8: Communication equipment
B9: Mounting Frames | C9: Dams | D9: Tower | E9: Generator | F9: Laboratories
B10: Tracker | C10: Water conveyance (channel, pipeline, pressurized pipeline) | D10: Nacelle | E10: Fuel system (tanks, pumps etc.) | F10: Storage warehouses
B11: Cabling | C11: Turbines or Waterwheels | D11: Rotor & Hub | E11: Pumps | F11: Land
B12: Inverters | C12: Generators (alternator) | D12: Blades | E12: Air Intake System | F12: Other (specify)
B13: Charge Controller (for batteries) | C13: Regulation system | D13: Anemometer | E13: Exhaust System
B14: Storage batteries | C14: Cabling | D14: Wind Vane | E14: Cooling System
B15: Drainage works | C15: Charge Controller (for batteries) | D15: Yaw System | E15: Lubrication System
B16: Other (specify) | C16: Storage batteries | D16: Pitch System | E16: Control Panel
C17: Other (specify) | D17: Turbines & Generators | E17: Starting system (motor & battery)
D18: Cabling | E18: Governor (Regulator)
D19: Controller | E19: Base Frame and Mounting
D20: Brakes | E20: Cabling
D21: Charge Controller (for batteries) | E21: Charge Controller (for batteries)
D22: Storage batteries | E22: Storage batteries
D23: Other (specify) | E23: Other (specify)
B33: =B2 -> Photovoltaic System
B34: =C2 -> Micro-hydropower plant
B35: =D2 -> Wind Power plant
B36: =E2 -> Diesel power plant
B37: No other Technology
B94: GRANTS
B95: Photovoltaic System
B96: =B3 -> Basic preliminary engineering design
B97: =B4 -> Detailed preliminary engineering design
B98: =B5 -> Engineering cost
B99: =B6 -> Fees for permits
B100: =B7 -> Environmental and Social Impact Assessments
B101: =B8 -> Photovoltaic panels
B102: =B9 -> Mounting Frames
B103: =B10 -> Tracker
B104: =B11 -> Cabling
B105: =B12 -> Inverters
B106: =B13 -> Charge Controller (for batteries)
...

Sheet 5.Generation RAB
B2: Regulated Asset Base (RAB) for the regulated electricity generation activity
B4: Technology 1 | C4: Micro-hydropower plant
B5: Technology 2 | C5: Wind Power plant
F6: 1 | G6: 2 | H6: 3 | I6: 4 | J6: 5 | K6: 6 | L6: 7 | M6: 8 | N6: 9 | O6: 10 | P6: 11 | Q6: 12 | R6: 13 | S6: 14 | T6: 15 | U6: 16 | V6: 17 | W6: 18 | X6: 19 | Y6: 20 | Z6: 21 | AA6: 22 | AB6: 23 | AC6: 24 | AD6: 25 | AE6: 26 | AF6: 27 | AG6: 28 | AH6: 29 | AI6: 30
B7: Gross value of assets at the beginning of the year | D7: Total (thousand USD) | E7: =E10 -> 2024 | F7: =F10 -> 2025 | G7: =G10 -> 2026 | H7: =H10 -> 2027 | I7: =I10 -> 2028 | J7: =J10 -> 2029 | K7: =K10 -> 2030 | L7: =L10 -> 2031 | ... AI7: =AI10 -> 2054
B8: Gross value of assets at the beginning of the year | D8: =SUM(E8:AI8) -> 8442.125 | E8: 0 | F8: =E186 -> 485 | G8: =F186 -> 462.45 | H8: =G186 -> 439.9 | I8: =H186 -> 417.35 | J8: =I186 -> 394.8 | K8: =J186 -> 372.25 | L8: =K186 -> 349.7 | M8: =L186 -> 327.15 | ... AI8: =AH186 -> 208.425
B10: New Investments | C10: Depreciation rate (%) | D10: Total (thousand USD) | E10: 2024 | F10: =E10+1 -> 2025 | G10: =F10+1 -> 2026 | H10: =G10+1 -> 2027 | I10: =H10+1 -> 2028 | J10: =I10+1 -> 2029 | K10: =J10+1 -> 2030 | L10: =K10+1 -> 2031 | M10: =L10+1 -> 2032 | ... AI10: =AH10+1 -> 2054
B11: =C4 -> Micro-hydropower plant
B12: =IF($C$4='4.CAPEX List'!$B$2,'4.CAPEX List'!B3,IF($C$4='4.CAPEX List'!$C$2,'4.CAPEX List'!C3,IF($C$4='4.CAPEX List'!$D$2,'4.CAPEX List'!D3,'4.CAPEX List'!E3))) -> Basic preliminary engineering design | C12: =1/30 -> 0.033333333 | D12: =SUM(E12:AI12) -> 9 | E12: 9 | F12: 0 | G12: 0 | H12: 0 | I12: 0 | J12: 0 | K12: 0 | L12: 0 | M12: 0 | N12: 0 | O12: 0 | P12: 0 | Q12: 0 | R12: 0 | S12: 0 | T12: 0 | U12: 0 | V12: 0 | W12: 0 | X12: 0 | Y12: 0 | Z12: 0 | AA12: 0 | AB12: 0 | AC12: 0 | AD12: 0 | AE12: 0 | AF12: 0 | AG12: 0 | AH12: 0 | AI12: 0
B13: =IF($C$4='4.CAPEX List'!$B$2,'4.CAPEX List'!B4,IF($C$4='4.CAPEX List'!$C$2,'4.CAPEX List'!C4,IF($C$4='4.CAPEX List'!$D$2,'4.CAPEX List'!D4,'4.CAPEX List'!E4))) -> Detailed preliminary engineering design | C13: =1/30 -> 0.033333333 | D13: =SUM(E13:AI13) -> 9 | E13: 9 | F13: 0 | G13: 0 | H13: 0 | I13: 0 | J13: 0 | K13: 0 | L13: 0 | M13: 0 | N13: 0 | O13: 0 | P13: 0 | Q13: 0 | R13: 0 | S13: 0 | T13: 0 | U13: 0 | V13: 0 | W13: 0 | X13: 0 | Y13: 0 | Z13: 0 | AA13: 0 | AB13: 0 | AC13: 0 | AD13: 0 | AE13: 0 | AF13: 0 | AG13: 0 | AH13: 0 | AI13: 0
B14: =IF($C$4='4.CAPEX List'!$B$2,'4.CAPEX List'!B5,IF($C$4='4.CAPEX List'!$C$2,'4.CAPEX List'!C5,IF($C$4='4.CAPEX List'!$D$2,'4.CAPEX List'!D5,'4.CAPEX List'!E5))) -> Engineering cost | C14: =1/30 -> 0.033333333 | D14: =SUM(E14:AI14) -> 9 | E14: 9 | F14: 0 | G14: 0 | H14: 0 | I14: 0 | J14: 0 | K14: 0 | L14: 0 | M14: 0 | N14: 0 | O14: 0 | P14: 0 | Q14: 0 | R14: 0 | S14: 0 | T14: 0 | U14: 0 | V14: 0 | W14: 0 | X14: 0 | Y14: 0 | Z14: 0 | AA14: 0 | AB14: 0 | AC14: 0 | AD14: 0 | AE14: 0 | AF14: 0 | AG14: 0 | AH14: 0 | AI14: 0
B15: =IF($C$4='4.CAPEX List'!$B$2,'4.CAPEX List'!B6,IF($C$4='4.CAPEX List'!$C$2,'4.CAPEX List'!C6,IF($C$4='4.CAPEX List'!$D$2,'4.CAPEX List'!D6,'4.CAPEX List'!E6))) -> Fees for permits | C15: =1/30 -> 0.033333333 | D15: =SUM(E15:AI15) -> 9 | E15: 9 | F15: 0 | G15: 0 | H15: 0 | I15: 0 | J15: 0 | K15: 0 | L15: 0 | M15: 0 | N15: 0 | O15: 0 | P15: 0 | Q15: 0 | R15: 0 | S15: 0 | T15: 0 | U15: 0 | V15: 0 | W15: 0 | X15: 0 | Y15: 0 | Z15: 0 | AA15: 0 | AB15: 0 | AC15: 0 | AD15: 0 | AE15: 0 | AF15: 0 | AG15: 0 | AH15: 0 | AI15: 0
B16: =IF($C$4='4.CAPEX List'!$B$2,'4.CAPEX List'!B7,IF($C$4='4.CAPEX List'!$C$2,'4.CAPEX List'!C7,IF($C$4='4.CAPEX List'!$D$2,'4.CAPEX List'!D7,'4.CAPEX List'!E7))) -> Environmental and Social Impact Assessments | C16: =1/30 -> 0.033333333 | D16: =SUM(E16:AI16) -> 9 | E16: 9 | F16: 0 | G16: 0 | H16: 0 | I16: 0 | J16: 0 | K16: 0 | L16: 0 | M16: 0 | N16: 0 | O16: 0 | P16: 0 | Q16: 0 | R16: 0 | S16: 0 | T16: 0 | U16: 0 | V16: 0 | W16: 0 | X16: 0 | Y16: 0 | Z16: 0 | AA16: 0 | AB16: 0 | AC16: 0 | AD16: 0 | AE16: 0 | AF16: 0 | AG16: 0 | AH16: 0 | AI16: 0
B17: =IF($C$4='4.CAPEX List'!$B$2,'4.CAPEX List'!B8,IF($C$4='4.CAPEX List'!$C$2,'4.CAPEX List'!C8,IF($C$4='4.CAPEX List'!$D$2,'4.CAPEX List'!D8,'4.CAPEX List'!E8))) -> Reservoirs | C17: =1/20 -> 0.05 | D17: =SUM(E17:AI17) -> 40 | E17: 20 | F17: 0 | G17: 0 | H17: 0 | I17: 0 | J17: 0 | K17: 0 | L17: 0 | M17: 0 | N17: 0 | O17: 0 | P17: 0 | Q17: 0 | R17: 0 | S17: 0 | T17: 0 | U17: 0 | V17: 0 | W17: 0 | X17: 0 | Y17: 20 | Z17: 0 | AA17: 0 | AB17: 0 | AC17: 0 | AD17: 0 | AE17: 0 | AF17: 0 | AG17: 0 | AH17: 0 | AI17: 0
B18: =IF($C$4='4.CAPEX List'!$B$2,'4.CAPEX List'!B9,IF($C$4='4.CAPEX List'!$C$2,'4.CAPEX List'!C9,IF($C$4='4.CAPEX List'!$D$2,'4.CAPEX List'!D9,'4.CAPEX List'!E9))) -> Dams | C18: =1/20 -> 0.05 | D18: =SUM(E18:AI18) -> 20 | E18: 10 | F18: 0 | G18: 0 | H18: 0 | I18: 0 | J18: 0 | K18: 0 | L18: 0 | M18: 0 | N18: 0 | O18: 0 | P18: 0 | Q18: 0 | R18: 0 | S18: 0 | T18: 0 | U18: 0 | V18: 0 | W18: 0 | X18: 0 | Y18: 10 | Z18: 0 | AA18: 0 | AB18: 0 | AC18: 0 | AD18: 0 | AE18: 0 | AF18: 0 | AG18: 0 | AH18: 0 | AI18: 0
B19: =IF($C$4='4.CAPEX List'!$B$2,'4.CAPEX List'!B10,IF($C$4='4.CAPEX List'!$C$2,'4.CAPEX List'!C10,IF($C$4='4.CAPEX List'!$D$2,'4.CAPEX List'!D10,'4.CAPEX List'!E10))) -> Water conveyance (channel, pipeline, pressurized pipeline) | C19: =1/20 -> 0.05 | D19: =SUM(E19:AI19) -> 30 | E19: 10 | F19: 0 | G19: 0 | H19: 0 | I19: 0 | J19: 0 | K19: 0 | L19: 0 | M19: 0 | N19: 0 | O19: 0 | P19: 0 | Q19: 0 | R19: 0 | S19: 0 | T19: 0 | U19: 0 | V19: 0 | W19: 0 | X19: 0 | Y19: 20 | Z19: 0 | AA19: 0 | AB19: 0 | AC19: 0 | AD19: 0 | AE19: 0 | AF19: 0 | AG19: 0 | AH19: 0 | AI19: 0
B20: =IF($C$4='4.CAPEX List'!$B$2,'4.CAPEX List'!B11,IF($C$4='4.CAPEX List'!$C$2,'4.CAPEX List'!C11,IF($C$4='4.CAPEX List'!$D$2,'4.CAPEX List'!D11,'4.CAPEX List'!E11))) -> Turbines or Waterwheels | C20: =1/25 -> 0.04 | D20: =SUM(E20:AI20) -> 10 | E20: 10 | F20: 0 | G20: 0 | H20: 0 | I20: 0 | J20: 0 | K20: 0 | L20: 0 | M20: 0 | N20: 0 | O20: 0 | P20: 0 | Q20: 0 | R20: 0 | S20: 0 | T20: 0 | U20: 0 | V20: 0 | W20: 0 | X20: 0 | Y20: 0 | Z20: 0 | AA20: 0 | AB20: 0 | AC20: 0 | AD20: 0 | AE20: 0 | AF20: 0 | AG20: 0 | AH20: 0 | AI20: 0
B21: =IF($C$4='4.CAPEX List'!$B$2,'4.CAPEX List'!B12,IF($C$4='4.CAPEX List'!$C$2,'4.CAPEX List'!C12,IF($C$4='4.CAPEX List'!$D$2,'4.CAPEX List'!D12,'4.CAPEX List'!E12))) -> Generators (alternator) | C21: =1/20 -> 0.05 | D21: =SUM(E21:AI21) -> 20 | E21: 10 | F21: 0 | G21: 0 | H21: 0 | I21: 0 | J21: 0 | K21: 0 | L21: 0 | M21: 0 | N21: 0 | O21: 0 | P21: 0 | Q21: 0 | R21: 0 | S21: 0 | T21: 0 | U21: 0 | V21: 0 | W21: 0 | X21: 0 | Y21: 10 | Z21: 0 | AA21: 0 | AB21: 0 | AC21: 0 | AD21: 0 | AE21: 0 | AF21: 0 | AG21: 0 | AH21: 0 | AI21: 0
B22: =IF($C$4='4.CAPEX List'!$B$2,'4.CAPEX List'!B13,IF($C$4='4.CAPEX List'!$C$2,'4.CAPEX List'!C13,IF($C$4='4.CAPEX List'!$D$2,'4.CAPEX List'!D13,'4.CAPEX List'!E13))) -> Regulation system | C22: =1/20 -> 0.05 | D22: =SUM(E22:AI22) -> 20 | E22: 10 | F22: 0 | G22: 0 | H22: 0 | I22: 0 | J22: 0 | K22: 0 | L22: 0 | M22: 0 | N22: 0 | O22: 0 | P22: 0 | Q22: 0 | R22: 0 | S22: 0 | T22: 0 | U22: 0 | V22: 0 | W22: 0 | X22: 0 | Y22: 10 | Z22: 0 | AA22: 0 | AB22: 0 | AC22: 0 | AD22: 0 | AE22: 0 | AF22: 0 | AG22: 0 | AH22: 0 | AI22: 0
B23: =IF($C$4='4.CAPEX List'!$B$2,'4.CAPEX List'!B14,IF($C$4='4.CAPEX List'!$C$2,'4.CAPEX List'!C14,IF($C$4='4.CAPEX List'!$D$2,'4.CAPEX List'!D14,'4.CAPEX List'!E14))) -> Cabling | C23: =1/20 -> 0.05 | D23: =SUM(E23:AI23) -> 20 | E23: 10 | F23: 0 | G23: 0 | H23: 0 | I23: 0 | J23: 0 | K23: 0 | L23: 0 | M23: 0 | N23: 0 | O23: 0 | P23: 0 | Q23: 0 | R23: 0 | S23: 0 | T23: 0 | U23: 0 | V23: 0 | W23: 0 | X23: 0 | Y23: 10 | Z23: 0 | AA23: 0 | AB23: 0 | AC23: 0 | AD23: 0 | AE23: 0 | AF23: 0 | AG23: 0 | AH23: 0 | AI23: 0
B24: =IF($C$4='4.CAPEX List'!$B$2,'4.CAPEX List'!B15,IF($C$4='4.CAPEX List'!$C$2,'4.CAPEX List'!C15,IF($C$4='4.CAPEX List'!$D$2,'4.CAPEX List'!D15,'4.CAPEX List'!E15))) -> Charge Controller (for batteries) | C24: =1/20 -> 0.05 | D24: =SUM(E24:AI24) -> 30 | E24: 15 | F24: 0 | G24: 0 | H24: 0 | I24: 0 | J24: 0 | K24: 0 | L24: 0 | M24: 0 | N24: 0 | O24: 0 | P24: 0 | Q24: 0 | R24: 0 | S24: 0 | T24: 0 | U24: 0 | V24: 0 | W24: 0 | X24: 0 | Y24: 15 | Z24: 0 | AA24: 0 | AB24: 0 | AC24: 0 | AD24: 0 | AE24: 0 | AF24: 0 | AG24: 0 | AH24: 0 | AI24: 0
B25: =IF($C$4='4.CAPEX List'!$B$2,'4.CAPEX List'!B16,IF($C$4='4.CAPEX List'!$C$2,'4.CAPEX List'!C16,IF($C$4='4.CAPEX List'!$D$2,'4.CAPEX List'!D16,'4.CAPEX List'!E16))) -> Storage batteries | D25: =SUM(E25:AI25) -> 0 | F25: 0 | G25: 0 | H25: 0 | I25: 0 | J25: 0 | K25: 0 | L25: 0 | M25: 0 | N25: 0 | O25: 0 | P25: 0 | Q25: 0 | R25: 0 | S25: 0 | T25: 0 | U25: 0 | V25: 0 | W25: 0 | X25: 0 | Y25: 0 | Z25: 0 | AA25: 0 | AB25: 0 | AC25: 0 | AD25: 0 | AE25: 0 | AF25: 0 | AG25: 0 | AH25: 0 | AI25: 0
B26: =IF($C$4='4.CAPEX List'!$B$2,'4.CAPEX List'!B17,IF($C$4='4.CAPEX List'!$C$2,'4.CAPEX List'!C17,IF($C$4='4.CAPEX List'!$D$2,'4.CAPEX List'!D17,'4.CAPEX List'!E17))) -> Other (specify) | D26: =SUM(E26:AI26) -> 0 | F26: 0 | G26: 0 | H26: 0 | I26: 0 | J26: 0 | K26: 0 | L26: 0 | M26: 0 | N26: 0 | O26: 0 | P26: 0 | Q26: 0 | R26: 0 | S26: 0 | T26: 0 | U26: 0 | V26: 0 | W26: 0 | X26: 0 | Y26: 0 | Z26: 0 | AA26: 0 | AB26: 0 | AC26: 0 | AD26: 0 | AE26: 0 | AF26: 0 | AG26: 0 | AH26: 0 | AI26: 0
B27: =IF($C$4='4.CAPEX List'!$B$2,'4.CAPEX List'!B18,IF($C$4='4.CAPEX List'!$C$2,'4.CAPEX List'!C18,IF($C$4='4.CAPEX List'!$D$2,'4.CAPEX List'!D18,'4.CAPEX List'!E18))) -> 0 | D27: =SUM(E27:AI27) -> 0 | F27: 0 | G27: 0 | H27: 0 | I27: 0 | J27: 0 | K27: 0 | L27: 0 | M27: 0 | N27: 0 | O27: 0 | P27: 0 | Q27: 0 | R27: 0 | S27: 0 | T27: 0 | U27: 0 | V27: 0 | W27: 0 | X27: 0 | Y27: 0 | Z27: 0 | AA27: 0 | AB27: 0 | AC27: 0 | AD27: 0 | AE27: 0 | AF27: 0 | AG27: 0 | AH27: 0 | AI27: 0
B28: =IF($C$4='4.CAPEX List'!$B$2,'4.CAPEX List'!B19,IF($C$4='4.CAPEX List'!$C$2,'4.CAPEX List'!C19,IF($C$4='4.CAPEX List'!$D$2,'4.CAPEX List'!D19,'4.CAPEX List'!E19))) -> 0 | D28: =SUM(E28:AI28) -> 0 | F28: 0 | G28: 0 | H28: 0 | I28: 0 | J28: 0 | K28: 0 | L28: 0 | M28: 0 | N28: 0 | O28: 0 | P28: 0 | Q28: 0 | R28: 0 | S28: 0 | T28: 0 | U28: 0 | V28: 0 | W28: 0 | X28: 0 | Y28: 0 | Z28: 0 | AA28: 0 | AB28: 0 | AC28: 0 | AD28: 0 | AE28: 0 | AF28: 0 | AG28: 0 | AH28: 0 | AI28: 0
B29: =IF($C$4='4.CAPEX List'!$B$2,'4.CAPEX List'!B20,IF($C$4='4.CAPEX List'!$C$2,'4.CAPEX List'!C20,IF($C$4='4.CAPEX List'!$D$2,'4.CAPEX List'!D20,'4.CAPEX List'!E20))) -> 0 | D29: =SUM(E29:AI29) -> 0 | F29: 0 | G29: 0 | H29: 0 | I29: 0 | J29: 0 | K29: 0 | L29: 0 | M29: 0 | N29: 0 | O29: 0 | P29: 0 | Q29: 0 | R29: 0 | S29: 0 | T29: 0 | U29: 0 | V29: 0 | W29: 0 | X29: 0 | Y29: 0 | Z29: 0 | AA29: 0 | AB29: 0 | AC29: 0 | AD29: 0 | AE29: 0 | AF29: 0 | AG29: 0 | AH29: 0 | AI29: 0
B30: =IF($C$4='4.CAPEX List'!$B$2,'4.CAPEX List'!B21,IF($C$4='4.CAPEX List'!$C$2,'4.CAPEX List'!C21,IF($C$4='4.CAPEX List'!$D$2,'4.CAPEX List'!D21,'4.CAPEX List'!E21))) -> 0 | D30: =SUM(E30:AI30) -> 0 | F30: 0 | G30: 0 | H30: 0 | I30: 0 | J30: 0 | K30: 0 | L30: 0 | M30: 0 | N30: 0 | O30: 0 | P30: 0 | Q30: 0 | R30: 0 | S30: 0 | T30: 0 | U30: 0 | V30: 0 | W30: 0 | X30: 0 | Y30: 0 | Z30: 0 | AA30: 0 | AB30: 0 | AC30: 0 | AD30: 0 | AE30: 0 | AF30: 0 | AG30: 0 | AH30: 0 | AI30: 0
B31: =IF($C$4='4.CAPEX List'!$B$2,'4.CAPEX List'!B22,IF($C$4='4.CAPEX List'!$C$2,'4.CAPEX List'!C22,IF($C$4='4.CAPEX List'!$D$2,'4.CAPEX List'!D22,'4.CAPEX List'!E22))) -> 0 | D31: =SUM(E31:AI31) -> 0 | F31: 0 | G31: 0 | H31: 0 | I31: 0 | J31: 0 | K31: 0 | L31: 0 | M31: 0 | N31: 0 | O31: 0 | P31: 0 | Q31: 0 | R31: 0 | S31: 0 | T31: 0 | U31: 0 | V31: 0 | W31: 0 | X31: 0 | Y31: 0 | Z31: 0 | AA31: 0 | AB31: 0 | AC31: 0 | AD31: 0 | AE31: 0 | AF31: 0 | AG31: 0 | AH31: 0 | AI31: 0
B32: =IF($C$4='4.CAPEX List'!$B$2,'4.CAPEX List'!B23,IF($C$4='4.CAPEX List'!$C$2,'4.CAPEX List'!C23,IF($C$4='4.CAPEX List'!$D$2,'4.CAPEX List'!D23,'4.CAPEX List'!E23))) -> 0 | D32: =SUM(E32:AI32) -> 0 | F32: 0 | G32: 0 | H32: 0 | I32: 0 | J32: 0 | K32: 0 | L32: 0 | M32: 0 | N32: 0 | O32: 0 | P32: 0 | Q32: 0 | R32: 0 | S32: 0 | T32: 0 | U32: 0 | V32: 0 | W32: 0 | X32: 0 | Y32: 0 | Z32: 0 | AA32: 0 | AB32: 0 | AC32: 0 | AD32: 0 | AE32: 0 | AF32: 0 | AG32: 0 | AH32: 0 | AI32: 0
B33: =C5 -> Wind Power plant
B34: =IF($C$5='4.CAPEX List'!$B$2,'4.CAPEX List'!B3,IF($C$5='4.CAPEX List'!$C$2,'4.CAPEX List'!C3,IF($C$5='4.CAPEX List'!$D$2,'4.CAPEX List'!D3,IF($C$5='4.CAPEX List'!$E$2,'4.CAPEX List'!E3,IF($C$5='4.CAPEX List'!$B$37,""))))) -> Basic preliminary engineering design | C34: =1/20 -> 0.05 | D34: =SUM(E34:AI34) -> 9.9 | E34: 9 | F34: 0 | G34: 0 | H34: 0 | I34: 0 | J34: 0 | K34: 0 | L34: 0 | M34: 0 | N34: 0 | O34: 0 | P34: 0 | Q34: 0 | R34: 0 | S34: 0 | T34: 0 | U34: 0 | V34: 0 | W34: 0 | X34: 0 | Y34: 0.9 | Z34: 0 | AA34: 0 | AB34: 0 | AC34: 0 | AD34: 0 | AE34: 0 | AF34: 0 | AG34: 0 | AH34: 0 | AI34: 0
B35: =IF($C$5='4.CAPEX List'!$B$2,'4.CAPEX List'!B4,IF($C$5='4.CAPEX List'!$C$2,'4.CAPEX List'!C4,IF($C$5='4.CAPEX List'!$D$2,'4.CAPEX List'!D4,IF($C$5='4.CAPEX List'!$E$2,'4.CAPEX List'!E4,IF($C$5='4.CAPEX List'!$B$37,""))))) -> Detailed preliminary engineering design | C35: =1/20 -> 0.05 | D35: =SUM(E35:AI35) -> 9.9 | E35: 9 | F35: 0 | G35: 0 | H35: 0 | I35: 0 | J35: 0 | K35: 0 | L35: 0 | M35: 0 | N35: 0 | O35: 0 | P35: 0 | Q35: 0 | R35: 0 | S35: 0 | T35: 0 | U35: 0 | V35: 0 | W35: 0 | X35: 0 | Y35: 0.9 | Z35: 0 | AA35: 0 | AB35: 0 | AC35: 0 | AD35: 0 | AE35: 0 | AF35: 0 | AG35: 0 | AH35: 0 | AI35: 0
B36: =IF($C$5='4.CAPEX List'!$B$2,'4.CAPEX List'!B5,IF($C$5='4.CAPEX List'!$C$2,'4.CAPEX List'!C5,IF($C$5='4.CAPEX List'!$D$2,'4.CAPEX List'!D5,IF($C$5='4.CAPEX List'!$E$2,'4.CAPEX List'!E5,IF($C$5='4.CAPEX List'!$B$37,""))))) -> Engineering cost | C36: =1/20 -> 0.05 | D36: =SUM(E36:AI36) -> 9.9 | E36: 9 | F36: 0 | G36: 0 | H36: 0 | I36: 0 | J36: 0 | K36: 0 | L36: 0 | M36: 0 | N36: 0 | O36: 0 | P36: 0 | Q36: 0 | R36: 0 | S36: 0 | T36: 0 | U36: 0 | V36: 0 | W36: 0 | X36: 0 | Y36: 0.9 | Z36: 0 | AA36: 0 | AB36: 0 | AC36: 0 | AD36: 0 | AE36: 0 | AF36: 0 | AG36: 0 | AH36: 0 | AI36: 0
B37: =IF($C$5='4.CAPEX List'!$B$2,'4.CAPEX List'!B6,IF($C$5='4.CAPEX List'!$C$2,'4.CAPEX List'!C6,IF($C$5='4.CAPEX List'!$D$2,'4.CAPEX List'!D6,IF($C$5='4.CAPEX List'!$E$2,'4.CAPEX List'!E6,IF($C$5='4.CAPEX List'!$B$37,""))))) -> Fees for permits | C37: =1/20 -> 0.05 | D37: =SUM(E37:AI37) -> 9.9 | E37: 9 | F37: 0 | G37: 0 | H37: 0 | I37: 0 | J37: 0 | K37: 0 | L37: 0 | M37: 0 | N37: 0 | O37: 0 | P37: 0 | Q37: 0 | R37: 0 | S37: 0 | T37: 0 | U37: 0 | V37: 0 | W37: 0 | X37: 0 | Y37: 0.9 | Z37: 0 | AA37: 0 | AB37: 0 | AC37: 0 | AD37: 0 | AE37: 0 | AF37: 0 | AG37: 0 | AH37: 0 | AI37: 0
B38: =IF($C$5='4.CAPEX List'!$B$2,'4.CAPEX List'!B7,IF($C$5='4.CAPEX List'!$C$2,'4.CAPEX List'!C7,IF($C$5='4.CAPEX List'!$D$2,'4.CAPEX List'!D7,IF($C$5='4.CAPEX List'!$E$2,'4.CAPEX List'!E7,IF($C$5='4.CAPEX List'!$B$37,""))))) -> Environmental and Social Impact Assessments | C38: =1/20 -> 0.05 | D38: =SUM(E38:AI38) -> 9.9 | E38: 9 | F38: 0 | G38: 0 | H38: 0 | I38: 0 | J38: 0 | K38: 0 | L38: 0 | M38: 0 | N38: 0 | O38: 0 | P38: 0 | Q38: 0 | R38: 0 | S38: 0 | T38: 0 | U38: 0 | V38: 0 | W38: 0 | X38: 0 | Y38: 0.9 | Z38: 0 | AA38: 0 | AB38: 0 | AC38: 0 | AD38: 0 | AE38: 0 | AF38: 0 | AG38: 0 | AH38: 0 | AI38: 0
B39: =IF($C$5='4.CAPEX List'!$B$2,'4.CAPEX List'!B8,IF($C$5='4.CAPEX List'!$C$2,'4.CAPEX List'!C8,IF($C$5='4.CAPEX List'!$D$2,'4.CAPEX List'!D8,IF($C$5='4.CAPEX List'!$E$2,'4.CAPEX List'!E8,IF($C$5='4.CAPEX List'!$B$37,""))))) -> Foundation (structural block in the ground) | C39: =1/20 -> 0.05 | D39: =SUM(E39:AI39) -> 40 | E39: 20 | F39: 0 | G39: 0 | H39: 0 | I39: 0 | J39: 0 | K39: 0 | L39: 0 | M39: 0 | N39: 0 | O39: 0 | P39: 0 | Q39: 0 | R39: 0 | S39: 0 | T39: 0 | U39: 0 | V39: 0 | W39: 0 | X39: 0 | Y39: 20 | Z39: 0 | AA39: 0 | AB39: 0 | AC39: 0 | AD39: 0 | AE39: 0 | AF39: 0 | AG39: 0 | AH39: 0 | AI39: 0
B40: =IF($C$5='4.CAPEX List'!$B$2,'4.CAPEX List'!B9,IF($C$5='4.CAPEX List'!$C$2,'4.CAPEX List'!C9,IF($C$5='4.CAPEX List'!$D$2,'4.CAPEX List'!D9,IF($C$5='4.CAPEX List'!$E$2,'4.CAPEX List'!E9,IF($C$5='4.CAPEX List'!$B$37,""))))) -> Tower | C40: =1/20 -> 0.05 | D40: =SUM(E40:AI40) -> 20 | E40: 10 | F40: 0 | G40: 0 | H40: 0 | I40: 0 | J40: 0 | K40: 0 | L40: 0 | M40: 0 | N40: 0 | O40: 0 | P40: 0 | Q40: 0 | R40: 0 | S40: 0 | T40: 0 | U40: 0 | V40: 0 | W40: 0 | X40: 0 | Y40: 10 | Z40: 0 | AA40: 0 | AB40: 0 | AC40: 0 | AD40: 0 | AE40: 0 | AF40: 0 | AG40: 0 | AH40: 0 | AI40: 0
B41: =IF($C$5='4.CAPEX List'!$B$2,'4.CAPEX List'!B10,IF($C$5='4.CAPEX List'!$C$2,'4.CAPEX List'!C10,IF($C$5='4.CAPEX List'!$D$2,'4.CAPEX List'!D10,IF($C$5='4.CAPEX List'!$E$2,'4.CAPEX List'!E10,IF($C$5='4.CAPEX List'!$B$37,""))))) -> Nacelle | C41: =1/20 -> 0.05 | D41: =SUM(E41:AI41) -> 20 | E41: 10 | F41: 0 | G41: 0 | H41: 0 | I41: 0 | J41: 0 | K41: 0 | L41: 0 | M41: 0 | N41: 0 | O41: 0 | P41: 0 | Q41: 0 | R41: 0 | S41: 0 | T41: 0 | U41: 0 | V41: 0 | W41: 0 | X41: 0 | Y41: 10 | Z41: 0 | AA41: 0 | AB41: 0 | AC41: 0 | AD41: 0 | AE41: 0 | AF41: 0 | AG41: 0 | AH41: 0 | AI41: 0
B42: =IF($C$5='4.CAPEX List'!$B$2,'4.CAPEX List'!B11,IF($C$5='4.CAPEX List'!$C$2,'4.CAPEX List'!C11,IF($C$5='4.CAPEX List'!$D$2,'4.CAPEX List'!D11,IF($C$5='4.CAPEX List'!$E$2,'4.CAPEX List'!E11,IF($C$5='4.CAPEX List'!$B$37,""))))) -> Rotor & Hub | C42: =1/20 -> 0.05 | D42: =SUM(E42:AI42) -> 20 | E42: 10 | F42: 0 | G42: 0 | H42: 0 | I42: 0 | J42: 0 | K42: 0 | L42: 0 | M42: 0 | N42: 0 | O42: 0 | P42: 0 | Q42: 0 | R42: 0 | S42: 0 | T42: 0 | U42: 0 | V42: 0 | W42: 0 | X42: 0 | Y42: 10 | Z42: 0 | AA42: 0 | AB42: 0 | AC42: 0 | AD42: 0 | AE42: 0 | AF42: 0 | AG42: 0 | AH42: 0 | AI42: 0
B43: =IF($C$5='4.CAPEX List'!$B$2,'4.CAPEX List'!B12,IF($C$5='4.CAPEX List'!$C$2,'4.CAPEX List'!C12,IF($C$5='4.CAPEX List'!$D$2,'4.CAPEX List'!D12,IF($C$5='4.CAPEX List'!$E$2,'4.CAPEX List'!E12,IF($C$5='4.CAPEX List'!$B$37,""))))) -> Blades | C43: =1/20 -> 0.05 | D43: =SUM(E43:AI43) -> 20 | E43: 10 | F43: 0 | G43: 0 | H43: 0 | I43: 0 | J43: 0 | K43: 0 | L43: 0 | M43: 0 | N43: 0 | O43: 0 | P43: 0 | Q43: 0 | R43: 0 | S43: 0 | T43: 0 | U43: 0 | V43: 0 | W43: 0 | X43: 0 | Y43: 10 | Z43: 0 | AA43: 0 | AB43: 0 | AC43: 0 | AD43: 0 | AE43: 0 | AF43: 0 | AG43: 0 | AH43: 0 | AI43: 0
...

Sheet 6.Generation OPEX
B2: Operational Expenditures of the regulated electricity generation activity
E3: 2024 | F3: =E3 -> 2024 | G3: =E3+1 -> 2025 | H3: =G3 -> 2025 | I3: =G3+1 -> 2026 | J3: =I3 -> 2026 | K3: =I3+1 -> 2027 | L3: =K3 -> 2027 | M3: =K3+1 -> 2028 | N3: =M3 -> 2028 | O3: =M3+1 -> 2029 | P3: =O3 -> 2029 | Q3: =O3+1 -> 2030 | R3: =Q3 -> 2030 | S3: =Q3+1 -> 2031 | T3: =S3 -> 2031 | U3: =S3+1 -> 2032 | V3: =U3 -> 2032 | W3: =U3+1 -> 2033 | X3: =W3 -> 2033 | Y3: =W3+1 -> 2034 | Z3: =Y3 -> 2034 | AA3: =Y3+1 -> 2035 | AB3: =AA3 -> 2035 | AC3: =AA3+1 -> 2036 | AD3: =AC3 -> 2036 | AE3: =AC3+1 -> 2037 | AF3: =AE3 -> 2037 | AG3: =AE3+1 -> 2038 | AH3: =AG3 -> 2038 | AI3: =AG3+1 -> 2039 | AJ3: =AI3 -> 2039 | AK3: =AI3+1 -> 2040 | AL3: =AK3 -> 2040 | AM3: =AK3+1 -> 2041 | AN3: =AM3 -> 2041 | AO3: =AM3+1 -> 2042 | AP3: =AO3 -> 2042 | AQ3: =AO3+1 -> 2043 | AR3: =AQ3 -> 2043 | AS3: =AQ3+1 -> 2044 | AT3: =AS3 -> 2044 | AU3: =AS3+1 -> 2045 | AV3: =AU3 -> 2045 | AW3: =AU3+1 -> 2046 | AX3: =AW3 -> 2046 | AY3: =AW3+1 -> 2047 | AZ3: =AY3 -> 2047 | BA3: =AY3+1 -> 2048 | BB3: =BA3 -> 2048 | BC3: =BA3+1 -> 2049 | BD3: =BC3 -> 2049 | BE3: =BC3+1 -> 2050 | BF3: =BE3 -> 2050 | BG3: =BE3+1 -> 2051 | BH3: =BG3 -> 2051 | BI3: =BG3+1 -> 2052 | BJ3: =BI3 -> 2052 | BK3: =BI3+1 -> 2053 | BL3: =BK3 -> 2053 | BM3: =BK3+1 -> 2054 | BN3: =BM3 -> 2054
C4: Unit | D4: Total | E4: 2024 | G4: =E4+1 -> 2025 | I4: =G4+1 -> 2026 | K4: =I4+1 -> 2027 | M4: =K4+1 -> 2028 | O4: =M4+1 -> 2029 | Q4: =O4+1 -> 2030 | S4: =Q4+1 -> 2031 | U4: =S4+1 -> 2032 | W4: =U4+1 -> 2033 | Y4: =W4+1 -> 2034 | AA4: =Y4+1 -> 2035 | AC4: =AA4+1 -> 2036 | AE4: =AC4+1 -> 2037 | AG4: =AE4+1 -> 2038 | AI4: =AG4+1 -> 2039 | AK4: =AI4+1 -> 2040 | AM4: =AK4+1 -> 2041 | AO4: =AM4+1 -> 2042 | AQ4: =AO4+1 -> 2043 | AS4: =AQ4+1 -> 2044 | AU4: =AS4+1 -> 2045 | AW4: =AU4+1 -> 2046 | AY4: =AW4+1 -> 2047 | BA4: =AY4+1 -> 2048 | BC4: =BA4+1 -> 2049 | BE4: =BC4+1 -> 2050 | BG4: =BE4+1 -> 2051 | BI4: =BG4+1 -> 2052 | BK4: =BI4+1 -> 2053 | BM4: =BK4+1 -> 2054
D5: Total | E5: Variable Operating Cost | F5: Fixed Operating Cost | G5: Variable Operating Cost | H5: Fixed Operating Cost | I5: Variable Operating Cost | J5: Fixed Operating Cost | K5: Variable Operating Cost | L5: Fixed Operating Cost | M5: Variable Operating Cost | N5: Fixed Operating Cost | O5: Variable Operating Cost | P5: Fixed Operating Cost | Q5: Variable Operating Cost | R5: Fixed Operating Cost | S5: Variable Operating Cost | T5: Fixed Operating Cost | U5: Variable Operating Cost | V5: Fixed Operating Cost | W5: Variable Operating Cost | X5: Fixed Operating Cost | Y5: Variable Operating Cost | Z5: Fixed Operating Cost | AA5: Variable Operating Cost | AB5: Fixed Operating Cost | AC5: Variable Operating Cost | AD5: Fixed Operating Cost | AE5: Variable Operating Cost | AF5: Fixed Operating Cost | AG5: Variable Operating Cost | AH5: Fixed Operating Cost | AI5: Variable Operating Cost | AJ5: Fixed Operating Cost | AK5: Variable Operating Cost | AL5: Fixed Operating Cost | AM5: Variable Operating Cost | AN5: Fixed Operating Cost | AO5: Variable Operating Cost | AP5: Fixed Operating Cost | AQ5: Variable Operating Cost | AR5: Fixed Operating Cost | AS5: Variable Operating Cost | AT5: Fixed Operating Cost | AU5: Variable Operating Cost | AV5: Fixed Operating Cost | AW5: Variable Operating Cost | AX5: Fixed Operating Cost | AY5: Variable Operating Cost | AZ5: Fixed Operating Cost | BA5: Variable Operating Cost | BB5: Fixed Operating Cost | BC5: Variable Operating Cost | BD5: Fixed Operating Cost | BE5: Variable Operating Cost | BF5: Fixed Operating Cost | BG5: Variable Operating Cost | BH5: Fixed Operating Cost | BI5: Variable Operating Cost | BJ5: Fixed Operating Cost | BK5: Variable Operating Cost | BL5: Fixed Operating Cost | BM5: Variable Operating Cost | BN5: Fixed Operating Cost
B6: Fixed and Variable Operating Cost net of subsidies
B7: Electricity Cost purchased from Independent Power Producer (IPP) | C7: thousand USD | D7: =SUM(E7:BN7) -> 0 | E7: 0 | F7: n/a | H7: n/a | J7: n/a | L7: n/a | N7: n/a | P7: n/a | R7: n/a | T7: n/a | V7: n/a | X7: n/a | Z7: n/a | AB7: n/a | AD7: n/a | AF7: n/a | AH7: n/a | AJ7: n/a | AL7: n/a | AN7: n/a | AP7: n/a | AR7: n/a | AT7: n/a | AV7: n/a | AX7: n/a | AZ7: n/a | BB7: n/a | BD7: n/a | BF7: n/a | BH7: n/a | BJ7: n/a | BL7: n/a | BN7: n/a
B8: Fuel costs | C8: thousand USD | D8: =SUM(E8:BN8) -> 3100 | E8: 100 | F8: n/a | G8: 100 | H8: n/a | I8: 100 | J8: n/a | K8: 100 | L8: n/a | M8: 100 | N8: n/a | O8: 100 | P8: n/a | Q8: 100 | R8: n/a | S8: 100 | T8: n/a | U8: 100 | V8: n/a | W8: 100 | X8: n/a | Y8: 100 | Z8: n/a | AA8: 100 | AB8: n/a | AC8: 100 | AD8: n/a | AE8: 100 | AF8: n/a | AG8: 100 | AH8: n/a | AI8: 100 | AJ8: n/a | AK8: 100 | AL8: n/a | AM8: 100 | AN8: n/a | AO8: 100 | AP8: n/a | AQ8: 100 | AR8: n/a | AS8: 100 | AT8: n/a | AU8: 100 | AV8: n/a | AW8: 100 | AX8: n/a | AY8: 100 | AZ8: n/a | BA8: 100 | BB8: n/a | BC8: 100 | BD8: n/a | BE8: 100 | BF8: n/a | BG8: 100 | BH8: n/a | BI8: 100 | BJ8: n/a | BK8: 100 | BL8: n/a | BM8: 100 | BN8: n/a
B9: Operation and Maintenance costs | C9: thousand USD | D9: =SUM(E9:BN9) -> 310 | F9: 10 | H9: 10 | J9: 10 | L9: 10 | N9: 10 | P9: 10 | R9: 10 | T9: 10 | V9: 10 | X9: 10 | Z9: 10 | AB9: 10 | AD9: 10 | AF9: 10 | AH9: 10 | AJ9: 10 | AL9: 10 | AN9: 10 | AP9: 10 | AR9: 10 | AT9: 10 | AV9: 10 | AX9: 10 | AZ9: 10 | BB9: 10 | BD9: 10 | BF9: 10 | BH9: 10 | BJ9: 10 | BL9: 10 | BN9: 10
B10: Central Administrative cost | C10: thousand USD | D10: =SUM(E10:BN10) -> 310 | F10: 10 | H10: 10 | J10: 10 | L10: 10 | N10: 10 | P10: 10 | R10: 10 | T10: 10 | V10: 10 | X10: 10 | Z10: 10 | AB10: 10 | AD10: 10 | AF10: 10 | AH10: 10 | AJ10: 10 | AL10: 10 | AN10: 10 | AP10: 10 | AR10: 10 | AT10: 10 | AV10: 10 | AX10: 10 | AZ10: 10 | BB10: 10 | BD10: 10 | BF10: 10 | BH10: 10 | BJ10: 10 | BL10: 10 | BN10: 10
B11: Cost of utilities (water electricity, telecom) | C11: thousand USD | D11: =SUM(E11:BN11) -> 0 | F11: n/a | H11: n/a | J11: n/a | L11: n/a | N11: n/a | P11: n/a | R11: n/a | T11: n/a | V11: n/a | X11: n/a | Z11: n/a | AB11: n/a | AD11: n/a | AF11: n/a | AH11: n/a | AJ11: n/a | AL11: n/a | AN11: n/a | AP11: n/a | AR11: n/a | AT11: n/a | AV11: n/a | AX11: n/a | AZ11: n/a | BB11: n/a | BD11: n/a | BF11: n/a | BH11: n/a | BJ11: n/a | BL11: n/a | BN11: n/a
B12: Regulatory expenses | C12: thousand USD | D12: =SUM(E12:BN12) -> 31 | F12: 1 | H12: 1 | J12: 1 | L12: 1 | N12: 1 | P12: 1 | R12: 1 | T12: 1 | V12: 1 | X12: 1 | Z12: 1 | AB12: 1 | AD12: 1 | AF12: 1 | AH12: 1 | AJ12: 1 | AL12: 1 | AN12: 1 | AP12: 1 | AR12: 1 | AT12: 1 | AV12: 1 | AX12: 1 | AZ12: 1 | BB12: 1 | BD12: 1 | BF12: 1 | BH12: 1 | BJ12: 1 | BL12: 1 | BN12: 1
B13: Lease Costs | C13: thousand USD | D13: =SUM(E13:BN13) -> 31 | F13: 1 | H13: 1 | J13: 1 | L13: 1 | N13: 1 | P13: 1 | R13: 1 | T13: 1 | V13: 1 | X13: 1 | Z13: 1 | AB13: 1 | AD13: 1 | AF13: 1 | AH13: 1 | AJ13: 1 | AL13: 1 | AN13: 1 | AP13: 1 | AR13: 1 | AT13: 1 | AV13: 1 | AX13: 1 | AZ13: 1 | BB13: 1 | BD13: 1 | BF13: 1 | BH13: 1 | BJ13: 1 | BL13: 1 | BN13: 1
B14: Other (specify) | C14: thousand USD | D14: =SUM(E14:BN14) -> 0
B15: Total Fixed and Variable Operating Cost | C15: thousand USD | D15: =SUM(E15:BN15) -> 3782 | E15: =SUM(E7:E14) -> 100 | F15: =SUM(F7:F14) -> 22 | G15: =SUM(G7:G14) -> 100 | H15: =SUM(H7:H14) -> 22 | I15: =SUM(I7:I14) -> 100 | J15: =SUM(J7:J14) -> 22 | K15: =SUM(K7:K14) -> 100 | L15: =SUM(L7:L14) -> 22 | ... BN15: =SUM(BN7:BN14) -> 22
B16: Subsidies received from state/ IFIs to cover operating costs | C16: thousand USD | D16: =SUM(E16:BN16) -> 0
B17: Total Fixed and Variable Operating Cost net of subsidies | C17: thousand USD | D17: =SUM(E17:BN17) -> 3782 | E17: =E15-E16 -> 100 | F17: =F15-F16 -> 22 | G17: =G15-G16 -> 100 | H17: =H15-H16 -> 22 | I17: =I15-I16 -> 100 | J17: =J15-J16 -> 22 | K17: =K15-K16 -> 100 | L17: =L15-L16 -> 22 | ... BN17: =BN15-BN16 -> 22
B18: Shared OPEX
B19: Shared OPEX | C19: thousand USD | D19: =SUM(E19:BN19) -> 270 | E19: n/a | F19: 9 | G19: n/a | H19: 9 | I19: n/a | J19: 9 | K19: n/a | L19: 9 | M19: n/a | N19: 9 | O19: n/a | P19: 9 | Q19: n/a | R19: 9 | S19: n/a | T19: 9 | U19: n/a | V19: 9 | W19: n/a | X19: 9 | Y19: n/a | Z19: 9 | AA19: n/a | AB19: 9 | AC19: n/a | AD19: 9 | AE19: n/a | AF19: 9 | AG19: n/a | AH19: 9 | AI19: n/a | AJ19: 9 | AK19: n/a | AL19: 9 | AM19: n/a | AN19: 9 | AO19: n/a | AP19: 9 | AQ19: n/a | AR19: 9 | AS19: n/a | AT19: 9 | AU19: n/a | AV19: 9 | AW19: n/a | AX19: 9 | AY19: n/a | AZ19: 9 | BA19: n/a | BB19: 9 | BC19: n/a | BD19: 9 | BE19: n/a | BF19: 9 | BG19: n/a | BH19: 9 | BI19: n/a | BJ19: 9 | BK19: n/a | BL19: 9 | BM19: n/a
B20: Non interest bank charges
B21: Non interest bank charges | C21: thousand USD | D21: =SUM(E21:BN21) -> 270 | E21: n/a | F21: 9 | G21: n/a | H21: 9 | I21: n/a | J21: 9 | K21: n/a | L21: 9 | M21: n/a | N21: 9 | O21: n/a | P21: 9 | Q21: n/a | R21: 9 | S21: n/a | T21: 9 | U21: n/a | V21: 9 | W21: n/a | X21: 9 | Y21: n/a | Z21: 9 | AA21: n/a | AB21: 9 | AC21: n/a | AD21: 9 | AE21: n/a | AF21: 9 | AG21: n/a | AH21: 9 | AI21: n/a | AJ21: 9 | AK21: n/a | AL21: 9 | AM21: n/a | AN21: 9 | AO21: n/a | AP21: 9 | AQ21: n/a | AR21: 9 | AS21: n/a | AT21: 9 | AU21: n/a | AV21: 9 | AW21: n/a | AX21: 9 | AY21: n/a | AZ21: 9 | BA21: n/a | BB21: 9 | BC21: n/a | BD21: 9 | BE21: n/a | BF21: 9 | BG21: n/a | BH21: 9 | BI21: n/a | BJ21: 9 | BK21: n/a | BL21: 9 | BM21: n/a
B22: Taxes
B23: Non-income related taxes | C23: thousand USD | D23: =SUM(E23:BN23) -> 270 | E23: n/a | F23: 9 | G23: n/a | H23: 9 | I23: n/a | J23: 9 | K23: n/a | L23: 9 | M23: n/a | N23: 9 | O23: n/a | P23: 9 | Q23: n/a | R23: 9 | S23: n/a | T23: 9 | U23: n/a | V23: 9 | W23: n/a | X23: 9 | Y23: n/a | Z23: 9 | AA23: n/a | AB23: 9 | AC23: n/a | AD23: 9 | AE23: n/a | AF23: 9 | AG23: n/a | AH23: 9 | AI23: n/a | AJ23: 9 | AK23: n/a | AL23: 9 | AM23: n/a | AN23: 9 | AO23: n/a | AP23: 9 | AQ23: n/a | AR23: 9 | AS23: n/a | AT23: 9 | AU23: n/a | AV23: 9 | AW23: n/a | AX23: 9 | AY23: n/a | AZ23: 9 | BA23: n/a | BB23: 9 | BC23: n/a | BD23: 9 | BE23: n/a | BF23: 9 | BG23: n/a | BH23: 9 | BI23: n/a | BJ23: 9 | BK23: n/a | BL23: 9 | BM23: n/a
E26: =E4 -> 2024 | F26: =E26+1 -> 2025 | G26: =F26+1 -> 2026 | H26: =G26+1 -> 2027 | I26: =H26+1 -> 2028 | J26: =I26+1 -> 2029 | K26: =J26+1 -> 2030 | L26: =K26+1 -> 2031 | M26: =L26+1 -> 2032 | ... AI26: =AH26+1 -> 2054
B27: Variable Operating Cost | C27: thousand USD | D27: =SUM(E27:BN27) -> 3100 | E27: =SUMIFS($E$17:$BN$17,$E$3:$BN$3,E26,$E$5:$BN$5,$B$27) -> 100 | F27: =SUMIFS($E$17:$BN$17,$E$3:$BN$3,F26,$E$5:$BN$5,$B$27) -> 100 | G27: =SUMIFS($E$17:$BN$17,$E$3:$BN$3,G26,$E$5:$BN$5,$B$27) -> 100 | H27: =SUMIFS($E$17:$BN$17,$E$3:$BN$3,H26,$E$5:$BN$5,$B$27) -> 100 | I27: =SUMIFS($E$17:$BN$17,$E$3:$BN$3,I26,$E$5:$BN$5,$B$27) -> 100 | J27: =SUMIFS($E$17:$BN$17,$E$3:$BN$3,J26,$E$5:$BN$5,$B$27) -> 100 | K27: =SUMIFS($E$17:$BN$17,$E$3:$BN$3,K26,$E$5:$BN$5,$B$27) -> 100 | L27: =SUMIFS($E$17:$BN$17,$E$3:$BN$3,L26,$E$5:$BN$5,$B$27) -> 100 | ... AI27: =SUMIFS($E$17:$BN$17,$E$3:$BN$3,AI26,$E$5:$BN$5,$B$27) -> 100
B28: Total Fixed Costs | C28: thousand USD | D28: =SUM(E28:BN28) -> 1492 | E28: =SUM(E29:E32) -> 49 | F28: =SUM(F29:F32) -> 49 | G28: =SUM(G29:G32) -> 49 | H28: =SUM(H29:H32) -> 49 | I28: =SUM(I29:I32) -> 49 | J28: =SUM(J29:J32) -> 49 | K28: =SUM(K29:K32) -> 49 | L28: =SUM(L29:L32) -> 49 | ... AI28: =SUM(AI29:AI32) -> 22
B29: Fixed Operating Cost | C29: thousand USD | D29: =SUM(E29:BN29) -> 682 | E29: =SUMIFS($E$17:$BN$17,$E$3:$BN$3,E26,$E$5:$BN$5,$B$29) -> 22 | F29: =SUMIFS($E$17:$BN$17,$E$3:$BN$3,F26,$E$5:$BN$5,$B$29) -> 22 | G29: =SUMIFS($E$17:$BN$17,$E$3:$BN$3,G26,$E$5:$BN$5,$B$29) -> 22 | H29: =SUMIFS($E$17:$BN$17,$E$3:$BN$3,H26,$E$5:$BN$5,$B$29) -> 22 | I29: =SUMIFS($E$17:$BN$17,$E$3:$BN$3,I26,$E$5:$BN$5,$B$29) -> 22 | J29: =SUMIFS($E$17:$BN$17,$E$3:$BN$3,J26,$E$5:$BN$5,$B$29) -> 22 | K29: =SUMIFS($E$17:$BN$17,$E$3:$BN$3,K26,$E$5:$BN$5,$B$29) -> 22 | L29: =SUMIFS($E$17:$BN$17,$E$3:$BN$3,L26,$E$5:$BN$5,$B$29) -> 22 | ... AI29: =SUMIFS($E$17:$BN$17,$E$3:$BN$3,AI26,$E$5:$BN$5,$B$29) -> 22
B30: Total financing costs | C30: thousand USD | D30: =SUM(E30:BN30) -> 270 | E30: =SUMIFS($E$21:$BN$21,$E$3:$BN$3,E26,$E$5:$BN$5,$B$29) -> 9 | F30: =SUMIFS($E$21:$BN$21,$E$3:$BN$3,F26,$E$5:$BN$5,$B$29) -> 9 | G30: =SUMIFS($E$21:$BN$21,$E$3:$BN$3,G26,$E$5:$BN$5,$B$29) -> 9 | H30: =SUMIFS($E$21:$BN$21,$E$3:$BN$3,H26,$E$5:$BN$5,$B$29) -> 9 | I30: =SUMIFS($E$21:$BN$21,$E$3:$BN$3,I26,$E$5:$BN$5,$B$29) -> 9 | J30: =SUMIFS($E$21:$BN$21,$E$3:$BN$3,J26,$E$5:$BN$5,$B$29) -> 9 | K30: =SUMIFS($E$21:$BN$21,$E$3:$BN$3,K26,$E$5:$BN$5,$B$29) -> 9 | L30: =SUMIFS($E$21:$BN$21,$E$3:$BN$3,L26,$E$5:$BN$5,$B$29) -> 9 | ... AI30: =SUMIFS($E$21:$BN$21,$E$3:$BN$3,AI26,$E$5:$BN$5,$B$29) -> 0
B31: Non-income related taxes | C31: thousand USD | D31: =SUM(E31:BN31) -> 270 | E31: =SUMIFS($E$23:$BN$23,$E$3:$BN$3,E26,$E$5:$BN$5,$B$29) -> 9 | F31: =SUMIFS($E$23:$BN$23,$E$3:$BN$3,F26,$E$5:$BN$5,$B$29) -> 9 | G31: =SUMIFS($E$23:$BN$23,$E$3:$BN$3,G26,$E$5:$BN$5,$B$29) -> 9 | H31: =SUMIFS($E$23:$BN$23,$E$3:$BN$3,H26,$E$5:$BN$5,$B$29) -> 9 | I31: =SUMIFS($E$23:$BN$23,$E$3:$BN$3,I26,$E$5:$BN$5,$B$29) -> 9 | J31: =SUMIFS($E$23:$BN$23,$E$3:$BN$3,J26,$E$5:$BN$5,$B$29) -> 9 | K31: =SUMIFS($E$23:$BN$23,$E$3:$BN$3,K26,$E$5:$BN$5,$B$29) -> 9 | L31: =SUMIFS($E$23:$BN$23,$E$3:$BN$3,L26,$E$5:$BN$5,$B$29) -> 9 | ... AI31: =SUMIFS($E$23:$BN$23,$E$3:$BN$3,AI26,$E$5:$BN$5,$B$29) -> 0
